BEGIN:VCALENDAR
VERSION:2.0
PRODID:-//joomla.test.seenema-bw.de//NONSGML kigkonsult.se iCalcreator 2.41.92//
CALSCALE:GREGORIAN
METHOD:PUBLISH
UID:65633062-3665-4237-a232-306265363830
X-WR-CALNAME:iCagenda
X-WR-CALDESC:Event Management Extension for Joomla!
X-WR-RELCALID:3E26604A-50F4-4449-8B3E-E4F4932D05B5
X-WR-TIMEZONE:Europe/Berlin
BEGIN:VTIMEZONE
TZID:Europe/Berlin
TZUNTIL:20271031T010000Z
BEGIN:STANDARD
TZNAME:CET
DTSTART:20251026T030000
TZOFFSETFROM:+0200
TZOFFSETTO:+0100
RDATE:20261025T030000
END:STANDARD
BEGIN:DAYLIGHT
TZNAME:CEST
DTSTART:20250330T020000
TZOFFSETFROM:+0100
TZOFFSETTO:+0200
RDATE:20260329T020000
RDATE:20270328T020000
END:DAYLIGHT
END:VTIMEZONE
BEGIN:VEVENT
UID:37356435-3666-4561-b233-356331396562
DTSTAMP:20260420T214007Z
CATEGORIES:Ausstellung
CLASS:PUBLIC
DESCRIPTION;ALTREP="CID:<FFFF__=0ABBE548DFE235B58f9e8a93d@coffeebean.com>":
 Jo Brösele\, gebürtiger Schwabe aus Schemmerberg\, Kreis Biberach\, ist ei
 n spezialisierter Generalist – er komponiert\, schreibt Lieder und Gedicht
 e\, macht Musik\, sorgt als Entertainer für Unterhaltung bei Groß und Klei
 n und ist gleichzeitig ein gefragter Schnell-Karikaturist\, sowie Wandillu
 strator: in ganz Deutschland unterwegs\, begeistert erseit Jahren mit sein
 en Projekten.\nIn „Zitate und Gesichter“ präsentiert Jo Brösele eine faszi
 nierende Sammlung mit von ihm auf Leinwand gemalten Bildern\, bei denen be
 rühmte Zitate in Gesichter verwandeltwerden. Die Ausstellung bietet einen 
 spannenden Blick auf kluge Köpfe – oft kennt man die Urheber nicht\, doch 
 die Bilder erzählen ihre eigene Geschichte. Prominente aus der Film- und M
 usikwelt\, sowie andere Berühmtheiten aus der Vergangenheit und Gegenwart 
 sind vertreten und verleihen der Sammlung Glanz.\nAm Sonntag\, 7. Dezember
  2025\, findet die Vernissage um 11 Uhr im seenema Bad Waldsee\, Biberache
 r Straße 29\, statt und wird von Jo Brösele musikalisch begleitet. Im Gesp
 räch mit Marianne Jocham erfahren die Besucher mehr über den inspirierende
 n Künstler.\nDie Ausstellung dauert bis 1. März 2026 und ist zu den Kinoze
 iten geöffnet.
DTSTART:20251207T100000Z
DTEND:20260301T210000Z
GEO:00;0
LOCATION:Werke von Jo Brösele
ORGANIZER:
SEQUENCE:1
SUMMARY:Zitate und ihre Gesichter
TRANSP:OPAQUE
URL:https://www.joomla.test.seenema-bw.de/index.php/ausstellungen/18-zitate
 -und-ihre-gesichter
END:VEVENT
END:VCALENDAR
