BEGIN:VCALENDAR
VERSION:2.0
PRODID:-//joomla.test.seenema-bw.de//NONSGML kigkonsult.se iCalcreator 2.41.92//
CALSCALE:GREGORIAN
METHOD:PUBLISH
UID:33313664-6261-4166-b837-623261616234
X-WR-CALNAME:iCagenda
X-WR-CALDESC:Event Management Extension for Joomla!
X-WR-RELCALID:3E26604A-50F4-4449-8B3E-E4F4932D05B5
X-WR-TIMEZONE:Europe/Berlin
BEGIN:VTIMEZONE
TZID:Europe/Berlin
TZUNTIL:20270328T010000Z
BEGIN:STANDARD
TZNAME:CET
DTSTART:20241027T030000
TZOFFSETFROM:+0200
TZOFFSETTO:+0100
RDATE:20251026T030000
RDATE:20261025T030000
END:STANDARD
BEGIN:DAYLIGHT
TZNAME:CEST
DTSTART:20250330T020000
TZOFFSETFROM:+0100
TZOFFSETTO:+0200
RDATE:20260329T020000
END:DAYLIGHT
END:VTIMEZONE
BEGIN:VEVENT
UID:33636338-6335-4461-a561-353465306435
DTSTAMP:20260421T092010Z
CATEGORIES:Ausstellung
CLASS:PUBLIC
DESCRIPTION;ALTREP="CID:<FFFF__=0ABBE548DFE235B58f9e8a93d@coffeebean.com>":
 Daniela Maurer wohnt in der Gemeinde Ingoldingen und malt gerne mit Aquare
 ll\, Acryl- oder Ölfarben. 2019 hat sie den Holzdruck entdeckt\, der sie s
 either nicht mehr loslässt. In Kursen\, an denen sie teilnimmt\, entstehen
  Drucke zu unterschiedlichen Themen. Mit Holz zu drucken\, verleiht Werken
  eine besondere Textur und einen warmen\, natürlichen Charakter\, der sich
  im Bild wiederfindet. Besonders dabei ist die kreative und entspannende T
 ätigkeit des Schnitzens\, bei der es sich um einfache Stempelarbeiten bis 
 hin zu komplexen Druckprozessen handeln kann.\nHolzdrucke sind eine Kunstf
 orm\, bei der Bilder oder Muster auf Holzplatten geschnitzt und gedruckt w
 erden. Dabei wird oft eine Holzschnitttechnik verwendet\, bei der das Moti
 v in die Oberfl äche des Holzes eingeritzt oder die Holzmaserung direkt ab
 gebildet wird. Spannend findet Daniela Maurer die Arbeit mit Zufällen\, de
 nn trotz guter Planung kann das gedruckte Ergebnis anders sein. Ein ehemal
 iger Meister aus der Malerei hat bei ihr den Satz geprägt: „Ein Werk soll 
 den Betrachter zum Überlegen anregen\, dann ist es gelungen“. In der Ausst
 ellung werden Druckarbeiten der Künstlerin mit unterschiedlichen Techniken
  vom Beginn bis heute gezeigt.
DTSTART:20250914T090000Z
DTEND:20251130T200000Z
GEO:00;0
LOCATION:Werke von Daniela Maurer
ORGANIZER:
SEQUENCE:1
SUMMARY:Holzdrucke
TRANSP:OPAQUE
URL:https://www.joomla.test.seenema-bw.de/index.php/ausstellungen/19-holzdr
 ucke
END:VEVENT
END:VCALENDAR
