BEGIN:VCALENDAR
VERSION:2.0
PRODID:-//joomla.test.seenema-bw.de//NONSGML kigkonsult.se iCalcreator 2.41.92//
CALSCALE:GREGORIAN
METHOD:PUBLISH
UID:37653135-3034-4166-b035-366235633662
X-WR-CALNAME:iCagenda
X-WR-CALDESC:Event Management Extension for Joomla!
X-WR-RELCALID:3E26604A-50F4-4449-8B3E-E4F4932D05B5
X-WR-TIMEZONE:Europe/Berlin
BEGIN:VTIMEZONE
TZID:Europe/Berlin
TZUNTIL:20320328T010000Z
BEGIN:STANDARD
TZNAME:CET
DTSTART:20291028T030000
TZOFFSETFROM:+0200
TZOFFSETTO:+0100
RDATE:20301027T030000
RDATE:20311026T030000
END:STANDARD
BEGIN:DAYLIGHT
TZNAME:CEST
DTSTART:20300331T020000
TZOFFSETFROM:+0100
TZOFFSETTO:+0200
RDATE:20310330T020000
END:DAYLIGHT
END:VTIMEZONE
BEGIN:VEVENT
UID:36393533-3133-4137-b634-393737616535
DTSTAMP:20260420T061632Z
CATEGORIES:Kinderfilme
CLASS:PUBLIC
DESCRIPTION;ALTREP="CID:<FFFF__=0ABBE548DFE235B58f9e8a93d@coffeebean.com>":
 Eine Schildkröte\, ein Ausflug aufs Land und dann auch noch Nachbar Burkes
  Geburtstag: Bei Pumuckl und Eder ist in diesem Sommer ganz schön viel los
 ! Zu viel vielleicht – denn bei so vielen Ereignissen schaffen es die beid
 en kaum noch\, ordentlich miteinander zu sprechen. Zwischen Eder und Pumuc
 kl kommt es zu einem großen Missverständnis und die beschauliche Welt der 
 beiden droht auseinanderzubrechen.D 2025Regie: Marcus H. Rosenmüller
DTSTART:20300703T120000Z
DTEND:20300703T120000Z
GEO:00;0
LOCATION:
ORGANIZER:
SEQUENCE:1
SUMMARY:Pumuckl und das große Missverständnis
TRANSP:OPAQUE
URL:https://www.joomla.test.seenema-bw.de/index.php/gesamtprogramm/22-pumuc
 kl-und-das-grosse-missverstaendnis/2030-07-03-14-00
END:VEVENT
END:VCALENDAR
