BEGIN:VCALENDAR
VERSION:2.0
PRODID:-//joomla.test.seenema-bw.de//NONSGML kigkonsult.se iCalcreator 2.41.92//
CALSCALE:GREGORIAN
METHOD:PUBLISH
UID:62373165-3832-4233-a230-663661363331
X-WR-CALNAME:iCagenda
X-WR-CALDESC:Event Management Extension for Joomla!
X-WR-RELCALID:3E26604A-50F4-4449-8B3E-E4F4932D05B5
X-WR-TIMEZONE:Europe/Berlin
BEGIN:VTIMEZONE
TZID:Europe/Berlin
TZUNTIL:20311026T010000Z
BEGIN:STANDARD
TZNAME:CET
DTSTART:20291028T030000
TZOFFSETFROM:+0200
TZOFFSETTO:+0100
RDATE:20301027T030000
END:STANDARD
BEGIN:DAYLIGHT
TZNAME:CEST
DTSTART:20290325T020000
TZOFFSETFROM:+0100
TZOFFSETTO:+0200
RDATE:20300331T020000
RDATE:20310330T020000
END:DAYLIGHT
END:VTIMEZONE
BEGIN:VEVENT
UID:36623433-6139-4232-b164-396236303961
DTSTAMP:20260420T062834Z
CATEGORIES:Filme
CLASS:PUBLIC
DESCRIPTION;ALTREP="CID:<FFFF__=0ABBE548DFE235B58f9e8a93d@coffeebean.com>":
 Ellen\, Professorin an der renommierten Georgetown University in Washingto
 n\, D.C.\, und Chefkoch Paul feiern ihren 25. Hochzeitstag. Während sich d
 ie Gäste amüsieren\, wird Ellen das Gefühl nicht los\, die neue Freundin i
 hres Sohnes bereits zu kennen. Liz entpuppt sich als ehemalige Studentin\,
  die wegen ihrer „antidemokratischen Thesen“ von der Uni geflogen ist. Jet
 zt steht sie kurz davor\, mit der Bewegung „The Change“ einen gesellschaft
 lichen  Paradigmenwechsel einzuleiten\, der das gesamte politische System 
 Amerikas erschüttert. Plötzlich muss Ellen nicht nur um den Zusammenhalt i
 hrer Familie\, sondern für die Freiheit und Werte eines ganzen Landes kämp
 fen.USA 2025Regie: Jan Komasa
DTSTART:20291209T190000Z
DTEND:20291209T190000Z
GEO:00;0
LOCATION:
ORGANIZER:
SEQUENCE:1
SUMMARY:The Change
TRANSP:OPAQUE
URL:https://www.joomla.test.seenema-bw.de/index.php/gesamtprogramm/31-the-c
 hange-omu-2/2029-12-09-20-00
END:VEVENT
END:VCALENDAR
