BEGIN:VCALENDAR
VERSION:2.0
PRODID:-//joomla.test.seenema-bw.de//NONSGML kigkonsult.se iCalcreator 2.41.92//
CALSCALE:GREGORIAN
METHOD:PUBLISH
UID:34376666-6430-4335-a561-393432636334
X-WR-CALNAME:iCagenda
X-WR-CALDESC:Event Management Extension for Joomla!
X-WR-RELCALID:3E26604A-50F4-4449-8B3E-E4F4932D05B5
X-WR-TIMEZONE:Europe/Berlin
BEGIN:VTIMEZONE
TZID:Europe/Berlin
TZUNTIL:20320328T010000Z
BEGIN:STANDARD
TZNAME:CET
DTSTART:20291028T030000
TZOFFSETFROM:+0200
TZOFFSETTO:+0100
RDATE:20301027T030000
RDATE:20311026T030000
END:STANDARD
BEGIN:DAYLIGHT
TZNAME:CEST
DTSTART:20300331T020000
TZOFFSETFROM:+0100
TZOFFSETTO:+0200
RDATE:20310330T020000
END:DAYLIGHT
END:VTIMEZONE
BEGIN:VEVENT
UID:36303831-3836-4063-b331-626362333465
DTSTAMP:20260421T050734Z
CATEGORIES:Kinderfilme
CLASS:PUBLIC
DESCRIPTION;ALTREP="CID:<FFFF__=0ABBE548DFE235B58f9e8a93d@coffeebean.com>":
 Die Neustädter Junghexe Bibi ist ganz aus dem Häuschen: Der große Hexenkon
 gress steigt – und das auf dem Blocksberg! Klar wie Kartoffelbrei\, dass s
 ie zusammen mit Schubia und Flauipaui als Helferin mit dabei sein will. Do
 ch kaum sind die ersten Hexen gelandet\, geht alles drunter und drüber: He
 xsprüche enden im Durcheinander\, die Althexen spielen plötzlich verrückt 
 und der ganze Hexenkongress gerät aus dem Ruder! Jetzt brauchen die Junghe
 xen Mut\, Fantasie und eine ordentliche Portion Freundschaft\, um das Chao
 s zu stoppen und die Zukunft der Hexenwelt zu retten…D 2025 Regie: Gregor 
 Schnitzler
DTSTART:20300701T140000Z
DTEND:20300701T140000Z
GEO:00;0
LOCATION:
ORGANIZER:
SEQUENCE:1
SUMMARY:Bibi Blocksberg und das große Hexentreffen
TRANSP:OPAQUE
URL:https://www.joomla.test.seenema-bw.de/index.php/gesamtprogramm/33-bibi-
 blocksberg-und-das-grosse-hexentreffen/2030-07-01-16-00
END:VEVENT
END:VCALENDAR
