BEGIN:VCALENDAR
VERSION:2.0
PRODID:-//joomla.test.seenema-bw.de//NONSGML kigkonsult.se iCalcreator 2.41.92//
CALSCALE:GREGORIAN
METHOD:PUBLISH
UID:37613737-6233-4538-b030-613436646465
X-WR-CALNAME:iCagenda
X-WR-CALDESC:Event Management Extension for Joomla!
X-WR-RELCALID:3E26604A-50F4-4449-8B3E-E4F4932D05B5
X-WR-TIMEZONE:Europe/Berlin
BEGIN:VTIMEZONE
TZID:Europe/Berlin
TZUNTIL:20280326T010000Z
BEGIN:STANDARD
TZNAME:CET
DTSTART:20251026T030000
TZOFFSETFROM:+0200
TZOFFSETTO:+0100
RDATE:20261025T030000
RDATE:20271031T030000
END:STANDARD
BEGIN:DAYLIGHT
TZNAME:CEST
DTSTART:20260329T020000
TZOFFSETFROM:+0100
TZOFFSETTO:+0200
RDATE:20270328T020000
END:DAYLIGHT
END:VTIMEZONE
BEGIN:VEVENT
UID:33383964-6462-4034-b461-343161393362
DTSTAMP:20260420T071626Z
CATEGORIES:Filme
CLASS:PUBLIC
DESCRIPTION;ALTREP="CID:<FFFF__=0ABBE548DFE235B58f9e8a93d@coffeebean.com>":
 Eine Leiche im Steinacher Ried\, gefälschte Medikamente und dubiose Pharma
  Vertreter versetzen Bad Waldsee in Aufruhr. Dazu ein Sportflugzeug\, dass
  abzustürzen droht und ein Unternehmer\, dessen Frau in der Kur verstorben
  ist. Wie hängt das alles zusammen? Kommissar Häberle ermittelt.D 2019 - 2
 024\; 123 Min.Regie: Elmar Maronn
DTSTART:20260801T160000Z
DTEND:20260801T160000Z
GEO:00;0
LOCATION:
ORGANIZER:
SEQUENCE:1
SUMMARY:Kurschatten
TRANSP:OPAQUE
URL:https://www.joomla.test.seenema-bw.de/index.php/gesamtprogramm/4-kursch
 atten/2026-08-01-18-00
END:VEVENT
END:VCALENDAR
