BEGIN:VCALENDAR
VERSION:2.0
PRODID:-//joomla.test.seenema-bw.de//NONSGML kigkonsult.se iCalcreator 2.41.92//
CALSCALE:GREGORIAN
METHOD:PUBLISH
UID:37383163-6539-4761-a366-663030653763
X-WR-CALNAME:iCagenda
X-WR-CALDESC:Event Management Extension for Joomla!
X-WR-RELCALID:3E26604A-50F4-4449-8B3E-E4F4932D05B5
X-WR-TIMEZONE:Europe/Berlin
BEGIN:VTIMEZONE
TZID:Europe/Berlin
TZUNTIL:20271031T010000Z
BEGIN:STANDARD
TZNAME:CET
DTSTART:20251026T030000
TZOFFSETFROM:+0200
TZOFFSETTO:+0100
RDATE:20261025T030000
END:STANDARD
BEGIN:DAYLIGHT
TZNAME:CEST
DTSTART:20260329T020000
TZOFFSETFROM:+0100
TZOFFSETTO:+0200
RDATE:20270328T020000
END:DAYLIGHT
END:VTIMEZONE
BEGIN:VEVENT
UID:38626433-6230-4235-b565-653738323836
DTSTAMP:20260421T125622Z
CATEGORIES:Matinée
CLASS:PUBLIC
DESCRIPTION;ALTREP="CID:<FFFF__=0ABBE548DFE235B58f9e8a93d@coffeebean.com>":
 Mythos oder Menschlichkeit: War Lucrezia Borgia wirklich eine Femme fatale
  – oder doch eine tragische Mutterfigur? Donizetti bricht mit der traditio
 nellen Opera seria und erschafft ein psychologisch nuanciertes Porträt ein
 er Frau\, gefangen zwischen Macht\, Schuld und Sehnsucht.\nEine Giftmische
 rin\, Mörderin\, Intrigantin und Lügnerin\, Tochter und Konkubine des Paps
 tes und Geliebte ihres Bruders. Diesen sagenhaften Zuschreibungen hat Lucr
 ezia ihrem Nachnamen zu verdanken\, denn die Borgias waren eine der wohl e
 influssreichsten und aus diesem Grund meistgehassten Familien der Renaissa
 nce. Bleibt da überhaupt Platz für die Vermutung\, dass Lucrezia Borgia in
  Wirklichkeit eine zutiefst unglückliche Frau und eine leidenschaftlich li
 ebende Mutter gewesen sein könnte?\nRegisseurin Rahel Thiel erzählt in ihr
 er Mannheimer Inszenierung die Geschichte einer Alleingängerin in einer Mä
 nnerwelt.\nDie neue Kooperation des seenema mit dem Nationaltheater Mannhe
 im holt die Oper in den Kinosaal. Erleben Sie Donizettis Meisterwerk in se
 iner ganzen Wucht – aufgezeichnet live auf der Bühne.
DTSTART:20260419T160000Z
DTEND:20260419T160000Z
GEO:00;0
LOCATION:Eine Aufzeichnung des Nationaltheaters Mannheim
ORGANIZER:
SEQUENCE:1
SUMMARY:Lucrezia Borgia
TRANSP:OPAQUE
URL:https://www.joomla.test.seenema-bw.de/index.php/gesamtprogramm/gesamtpr
 ogramm-2/35-lucrezia-borgia/2026-04-19-18-00
END:VEVENT
END:VCALENDAR
