BEGIN:VCALENDAR
VERSION:2.0
PRODID:-//joomla.test.seenema-bw.de//NONSGML kigkonsult.se iCalcreator 2.41.92//
CALSCALE:GREGORIAN
METHOD:PUBLISH
UID:62336261-6466-4232-b465-623036346136
X-WR-CALNAME:iCagenda
X-WR-CALDESC:Event Management Extension for Joomla!
X-WR-RELCALID:3E26604A-50F4-4449-8B3E-E4F4932D05B5
X-WR-TIMEZONE:Europe/Berlin
BEGIN:VTIMEZONE
TZID:Europe/Berlin
TZUNTIL:20321031T010000Z
BEGIN:STANDARD
TZNAME:CET
DTSTART:20301027T030000
TZOFFSETFROM:+0200
TZOFFSETTO:+0100
RDATE:20311026T030000
END:STANDARD
BEGIN:DAYLIGHT
TZNAME:CEST
DTSTART:20300331T020000
TZOFFSETFROM:+0100
TZOFFSETTO:+0200
RDATE:20310330T020000
RDATE:20320328T020000
END:DAYLIGHT
END:VTIMEZONE
BEGIN:VEVENT
UID:36336530-3663-4135-b563-663630643338
DTSTAMP:20260420T072634Z
CATEGORIES:Filme
CLASS:PUBLIC
DESCRIPTION;ALTREP="CID:<FFFF__=0ABBE548DFE235B58f9e8a93d@coffeebean.com>":
 Eine Leiche im Steinacher Ried\, gefälschte Medikamente und dubiose Pharma
  Vertreter versetzen Bad Waldsee in Aufruhr. Dazu ein Sportflugzeug\, dass
  abzustürzen droht und ein Unternehmer\, dessen Frau in der Kur verstorben
  ist. Wie hängt das alles zusammen? Kommissar Häberle ermittelt.D 2019 - 2
 024\; 123 Min.Regie: Elmar Maronn
DTSTART:20301230T170000Z
DTEND:20301230T170000Z
GEO:00;0
LOCATION:
ORGANIZER:
SEQUENCE:1
SUMMARY:Kurschatten
TRANSP:OPAQUE
URL:https://www.joomla.test.seenema-bw.de/index.php/gesamtprogramm/gesamtpr
 ogramm-2/4-kurschatten/2030-12-30-18-00
END:VEVENT
END:VCALENDAR
