BEGIN:VCALENDAR
VERSION:2.0
PRODID:-//joomla.test.seenema-bw.de//NONSGML kigkonsult.se iCalcreator 2.41.92//
CALSCALE:GREGORIAN
METHOD:PUBLISH
UID:66653837-3033-4236-a531-626530366338
X-WR-CALNAME:iCagenda
X-WR-CALDESC:Event Management Extension for Joomla!
X-WR-RELCALID:3E26604A-50F4-4449-8B3E-E4F4932D05B5
X-WR-TIMEZONE:Europe/Berlin
BEGIN:VTIMEZONE
TZID:Europe/Berlin
TZUNTIL:20271031T010000Z
BEGIN:STANDARD
TZNAME:CET
DTSTART:20251026T030000
TZOFFSETFROM:+0200
TZOFFSETTO:+0100
RDATE:20261025T030000
END:STANDARD
BEGIN:DAYLIGHT
TZNAME:CEST
DTSTART:20250330T020000
TZOFFSETFROM:+0100
TZOFFSETTO:+0200
RDATE:20260329T020000
RDATE:20270328T020000
END:DAYLIGHT
END:VTIMEZONE
BEGIN:VEVENT
UID:65366339-6362-4235-a634-383266373039
DTSTAMP:20260425T103339Z
CATEGORIES:Matinée
CLASS:PUBLIC
DESCRIPTION;ALTREP="CID:<FFFF__=0ABBE548DFE235B58f9e8a93d@coffeebean.com>":
 Als Missionarskind wird Hans-Peter Lübke 1960 in Namibia geboren. Er verbr
 ingt die ersten zehn Jahre seines Lebens in Afrika. 50 Jahre später\, währ
 end des Umzugs seiner Eltern\, findet er ein Foto von Paul und sich. Seine
  Kindheit ist unmittelbar mit Paul verknüpft\, inmitten der menschenunwürd
 igen Zeit der Apartheit. Seitdem lässt ihn der Gedanke an seinen Freund ni
 cht mehr los und er beschließt\, nach Namibia zu reisen. Mit der Kamera im
  Gepäck und dem Foto in der Hand machte er sich auf\, Paul zu suchen. \nUm
  erstmal anzukommen\, verbringt der Autor einige Zeit auf einer Farm. Dabe
 i sammelt er Eindrücke\, die Auskunft geben über das Leben in Namibia heut
 e.\nDie Suche nach Paul wird unterstützt durch eine Videoaufzeichnung\, au
 f der sein Vater einen Aufruf auf „Nama“ spricht\, einer namibische Sprach
 e\, die er während seiner Zeit als Missionar gelernt hat und fließend spri
 cht. Ebenso dient ihm das gefundene Foto\, welches von Hand zu Hand geht u
 nd unterschiedlichste Reaktionen hervorruft. Wie würde Paul auf dieses Bil
 d und auf eine Begegnung reagieren?\nIn diesem sehr persönlichen Dokumenta
 rfilm verliert der Filmemacher sein „eigentliches“ Ziel nie aus den Augen:
  Er will Paul wiederfinden\, um etwas über dessen Leben zu erfahren - ein 
 Leben\, das exemplarisch für die ungleich verteilten Lebenschancen zwische
 n Europäern und Afrikanern steht. Mit der Reflexion über seine eigene Biog
 rafie\, die Freundschaft zu Paul und die verspätete Suche nach ihm nimmt d
 er Filmemacher die Zuschauer auf eine visuell wie inhaltlich faszinierende
  Reise mit\, fernab der allgemeinen Sehenswürdigkeiten des Landes. Seine E
 rzählhaltung ist von persönlichen Erinnerungen und aktuellen Eindrücken be
 stimmt. Der Film hatte erfolgreiche Premiere bei den Filmfestspielen in Bi
 berach.\nD 2016. Regie: Hans-Peter Lübke. 82 Min. Mehrspr. -   OmU
DTSTART:20251116T100000Z
DTEND:20251116T100000Z
GEO:00;0
LOCATION:
ORGANIZER:
SEQUENCE:1
SUMMARY:Auf der Suche nach Paul
TRANSP:OPAQUE
URL:https://www.joomla.test.seenema-bw.de/index.php/matinee/12-auf-der-such
 e-nach-paul/2025-11-16-11-00?layout=vcal
END:VEVENT
END:VCALENDAR
