BEGIN:VCALENDAR
VERSION:2.0
PRODID:-//joomla.test.seenema-bw.de//NONSGML kigkonsult.se iCalcreator 2.41.92//
CALSCALE:GREGORIAN
METHOD:PUBLISH
UID:64656230-3035-4661-b766-343763656131
X-WR-CALNAME:iCagenda
X-WR-CALDESC:Event Management Extension for Joomla!
X-WR-RELCALID:3E26604A-50F4-4449-8B3E-E4F4932D05B5
X-WR-TIMEZONE:Europe/Berlin
BEGIN:VTIMEZONE
TZID:Europe/Berlin
TZUNTIL:20271031T010000Z
BEGIN:STANDARD
TZNAME:CET
DTSTART:20251026T030000
TZOFFSETFROM:+0200
TZOFFSETTO:+0100
RDATE:20261025T030000
END:STANDARD
BEGIN:DAYLIGHT
TZNAME:CEST
DTSTART:20250330T020000
TZOFFSETFROM:+0100
TZOFFSETTO:+0200
RDATE:20260329T020000
RDATE:20270328T020000
END:DAYLIGHT
END:VTIMEZONE
BEGIN:VEVENT
UID:31353637-3730-4436-b665-656132613137
DTSTAMP:20260425T115648Z
CATEGORIES:Matinée
CLASS:PUBLIC
DESCRIPTION;ALTREP="CID:<FFFF__=0ABBE548DFE235B58f9e8a93d@coffeebean.com>":
 Jo Brösele präsentiert im Rahmen einer Matinée im Kino seinen neuesten Fil
 m „Die sieben Schwaben“. Schwäbisch - witzig – urig. Zur Einstimmung kann 
 man sich auf ein Live-Konzert des Künstlers freuen.
DTSTART:20260118T100000Z
DTEND:20260118T100000Z
GEO:00;0
LOCATION:
ORGANIZER:
SEQUENCE:1
SUMMARY:Die sieben Schwaben
TRANSP:OPAQUE
URL:https://www.joomla.test.seenema-bw.de/index.php/matinee/16-die-sieben-s
 chwaben/2026-01-18-11-00?layout=vcal
END:VEVENT
END:VCALENDAR
