BEGIN:VCALENDAR
VERSION:2.0
PRODID:-//joomla.test.seenema-bw.de//NONSGML kigkonsult.se iCalcreator 2.41.92//
CALSCALE:GREGORIAN
METHOD:PUBLISH
UID:37313233-6264-4933-b731-333838653530
X-WR-CALNAME:iCagenda
X-WR-CALDESC:Event Management Extension for Joomla!
X-WR-RELCALID:3E26604A-50F4-4449-8B3E-E4F4932D05B5
X-WR-TIMEZONE:Europe/Berlin
BEGIN:VTIMEZONE
TZID:Europe/Berlin
TZUNTIL:20271031T010000Z
BEGIN:STANDARD
TZNAME:CET
DTSTART:20251026T030000
TZOFFSETFROM:+0200
TZOFFSETTO:+0100
RDATE:20261025T030000
END:STANDARD
BEGIN:DAYLIGHT
TZNAME:CEST
DTSTART:20250330T020000
TZOFFSETFROM:+0100
TZOFFSETTO:+0200
RDATE:20260329T020000
RDATE:20270328T020000
END:DAYLIGHT
END:VTIMEZONE
BEGIN:VEVENT
UID:33353037-6537-4637-a539-393365623337
DTSTAMP:20260421T125809Z
CATEGORIES:Matinée
CLASS:PUBLIC
DESCRIPTION;ALTREP="CID:<FFFF__=0ABBE548DFE235B58f9e8a93d@coffeebean.com>":
 Einführung: Klimawandel\nIm ersten inhaltlichen Programmpunkt gibt Roland 
 Roth eine Einführung in das Thema Klimawandel.\nFilmimpuls\nNach einer kur
 zen Pause wird ein Ausschnitt aus dem Film 'Von Menschen\, die auf Bäume s
 teigen' gezeigt\, der weitere Perspektiven eröffnet und zur inhaltlichen V
 ertiefung beiträgt.\n Foto: Peter Zeh (Quelle: Die Bildschirmzeitung\, htt
 ps://bis-september2023.diebildschirmzeitung.de/blix/kultur-freizeit/5904-d
 as-system-ist-falsch)\nVortrag &amp\; Buchvorstellung\nEin anschließender 
 Vortrag widmet sich der Bauwende und stellt das Buch 'Kies- &amp\; Sand- E
 xtraktivismus im Altdorfer Wald — Widerstand für eine Bauwende' vor.\nDisk
 ussion &amp\; Ausklang\nDen Abschluss bildet eine offene Diskussion mit an
 schließendem Ausklang im Bistro und Gelegenheit zum Austausch.
DTSTART:20260222T103000Z
DTEND:20260222T103000Z
GEO:00;0
LOCATION:
ORGANIZER:
SEQUENCE:1
SUMMARY:Sand- & Kies-Extraktivismus im Altdorfer Wald
TRANSP:OPAQUE
URL:https://www.joomla.test.seenema-bw.de/index.php/matinee/34-altdorfer-wa
 ld/2026-02-22-11-30
END:VEVENT
END:VCALENDAR
