BEGIN:VCALENDAR
VERSION:2.0
PRODID:-//joomla.test.seenema-bw.de//NONSGML kigkonsult.se iCalcreator 2.41.92//
CALSCALE:GREGORIAN
METHOD:PUBLISH
UID:30393066-3834-4133-b863-326163313332
X-WR-CALNAME:iCagenda
X-WR-CALDESC:Event Management Extension for Joomla!
X-WR-RELCALID:3E26604A-50F4-4449-8B3E-E4F4932D05B5
X-WR-TIMEZONE:Europe/Berlin
BEGIN:VTIMEZONE
TZID:Europe/Berlin
TZUNTIL:20271031T010000Z
BEGIN:STANDARD
TZNAME:CET
DTSTART:20251026T030000
TZOFFSETFROM:+0200
TZOFFSETTO:+0100
RDATE:20261025T030000
END:STANDARD
BEGIN:DAYLIGHT
TZNAME:CEST
DTSTART:20250330T020000
TZOFFSETFROM:+0100
TZOFFSETTO:+0200
RDATE:20260329T020000
RDATE:20270328T020000
END:DAYLIGHT
END:VTIMEZONE
BEGIN:VEVENT
UID:34373165-3664-4761-b661-383034353338
DTSTAMP:20260421T125922Z
CATEGORIES:Vernissage
CLASS:PUBLIC
DESCRIPTION;ALTREP="CID:<FFFF__=0ABBE548DFE235B58f9e8a93d@coffeebean.com>":
 Die Aulendorfer Künstlerin Julia Niepmann-Eisenlauer präsentiert eine Ausw
 ahl ihres künstlerischen Schaffens. Ihre Liebe gilt der abstrakten Malerei
 . Diese Kunstform setzt der Fantasie keine Grenzen\, sondern sie entsteht 
 durch spontane Form- und Farbideen. Vor 15 Jahren hat sie die Vorliebe für
 s Malen für sich entdeckt und sich autodidaktisch ausgebildet. Ohne Einflu
 ss von Vorbildern entstehen unter der Devise „Versuch und Irrtum“ mit dem 
 ersten Pinselstrich ihre Bilder und entwickelt sie dann so fort\, bis sie 
 selbst mit Zufriedenheit eine  Lösung gefunden hat. Einen Titel formuliert
  sie erst am Schluss. Dennoch: In ihrem Studium der Textilgestaltung an de
 r Pädagogischen Hochschule in Köln wurde die Erschaffung von Stoffen/Stoff
 mustern als eine Art des bildnerischen Ausdrucks gelehrt. Julia Niepmann-E
 isenlauer schätzt die Ruhe in ihrem Atelier\, was ihre Freude und Konzentr
 ation am Malen beflügelt. Sie ist Mitglied im Kunstverein Bad Saulgau und 
 hat schon mehrere Einzelausstellungen bestritten und bei mehreren Gruppena
 usstellungen teilgenommen. Neben der Malerei fertigt sie gerne Skulpturen 
 aus Holz\, die ebenfalls in der Ausstellung zu sehen sind.\nDie Vernissage
  findet am 8. März um 11 Uhr im Stadtkino seenema Bad Waldsee\, Biberacher
  Str.29\, statt. Nach der Begrüßung durch Marianne Jocham führt Julia Niep
 mann-Eisenlauer im Gespräch in ihr Werk ein. Künstlerische Begleitung: Ute
  Giese: fl auto dolce und Lyrik.\nDie Ausstellung dauert bis 10. Mai und i
 st zu den Kinozeiten zu besuchen.
DTSTART:20260308T100000Z
DTEND:20260308T100000Z
GEO:00;0
LOCATION:
ORGANIZER:
SEQUENCE:1
SUMMARY:Farbkräftige Malerei und witzige Skulpturen
TRANSP:OPAQUE
URL:https://www.joomla.test.seenema-bw.de/index.php/matinee/38-farbkraeftig
 e-malerei-und-witzige-skulpturen-2/2026-03-08-11-00
END:VEVENT
END:VCALENDAR
